BEGIN:VCALENDAR
VERSION:2.0
PRODID:-//Apostolic Faith Church - ECPv6.5.1.3//NONSGML v1.0//EN
CALSCALE:GREGORIAN
METHOD:PUBLISH
X-WR-CALNAME:Apostolic Faith Church
X-ORIGINAL-URL:https://afcatlanta.org
X-WR-CALDESC:Events for Apostolic Faith Church
REFRESH-INTERVAL;VALUE=DURATION:PT1H
X-Robots-Tag:noindex
X-PUBLISHED-TTL:PT1H
BEGIN:VTIMEZONE
TZID:UTC
BEGIN:STANDARD
TZOFFSETFROM:+0000
TZOFFSETTO:+0000
TZNAME:UTC
DTSTART:20240101T000000
END:STANDARD
END:VTIMEZONE
BEGIN:VEVENT
DTSTART;TZID=UTC:20240731T080000
DTEND;TZID=UTC:20240804T170000
DTSTAMP:20260420T153826
CREATED:20240619T073343Z
LAST-MODIFIED:20240717T114020Z
UID:924-1722412800-1722790800@afcatlanta.org
SUMMARY:AFC SE Camp Meeting
DESCRIPTION:
URL:https://afcatlanta.org/event/afc-se-camp-meeting/
LOCATION:Lake Yale Conference Center\, FL\, 34788\, United States
END:VEVENT
END:VCALENDAR