BEGIN:VCALENDAR
VERSION:2.0
PRODID:-//Apostolic Faith Church - ECPv6.5.1.3//NONSGML v1.0//EN
CALSCALE:GREGORIAN
METHOD:PUBLISH
X-ORIGINAL-URL:https://afcatlanta.org
X-WR-CALDESC:Events for Apostolic Faith Church
REFRESH-INTERVAL;VALUE=DURATION:PT1H
X-Robots-Tag:noindex
X-PUBLISHED-TTL:PT1H
BEGIN:VTIMEZONE
TZID:UTC
BEGIN:STANDARD
TZOFFSETFROM:+0000
TZOFFSETTO:+0000
TZNAME:UTC
DTSTART:20240101T000000
END:STANDARD
END:VTIMEZONE
BEGIN:VEVENT
DTSTART;TZID=UTC:20240901T133000
DTEND;TZID=UTC:20240901T150000
DTSTAMP:20260420T111044
CREATED:20240830T204257Z
LAST-MODIFIED:20240830T204502Z
UID:1017-1725197400-1725202800@afcatlanta.org
SUMMARY:Evening Evangelistic Service
DESCRIPTION:
URL:https://afcatlanta.org/event/evening-evangelistic-service/
END:VEVENT
BEGIN:VEVENT
DTSTART;TZID=UTC:20240904T200000
DTEND;TZID=UTC:20240904T220000
DTSTAMP:20260420T111044
CREATED:20240830T204806Z
LAST-MODIFIED:20240830T204806Z
UID:1025-1725480000-1725487200@afcatlanta.org
SUMMARY:Chairs Meeting
DESCRIPTION:
URL:https://afcatlanta.org/event/chairs-meeting/
END:VEVENT
BEGIN:VEVENT
DTSTART;TZID=UTC:20240908T133000
DTEND;TZID=UTC:20240908T150000
DTSTAMP:20260420T111044
CREATED:20240830T205422Z
LAST-MODIFIED:20240830T205422Z
UID:1033-1725802200-1725807600@afcatlanta.org
SUMMARY:Children's Service
DESCRIPTION:
URL:https://afcatlanta.org/event/childrens-service/
END:VEVENT
BEGIN:VEVENT
DTSTART;TZID=UTC:20240911T200000
DTEND;TZID=UTC:20240911T220000
DTSTAMP:20260420T111044
CREATED:20240830T210803Z
LAST-MODIFIED:20240830T210803Z
UID:1041-1726084800-1726092000@afcatlanta.org
SUMMARY:Church Meeting
DESCRIPTION:
URL:https://afcatlanta.org/event/church-meeting/
END:VEVENT
BEGIN:VEVENT
DTSTART;TZID=UTC:20240916T193000
DTEND;TZID=UTC:20240916T210000
DTSTAMP:20260420T111044
CREATED:20240830T213938Z
LAST-MODIFIED:20240830T213938Z
UID:1063-1726515000-1726520400@afcatlanta.org
SUMMARY:Outreach Meeting
DESCRIPTION:
URL:https://afcatlanta.org/event/outreach-meeting-3/
END:VEVENT
BEGIN:VEVENT
DTSTART;VALUE=DATE:20240918
DTEND;VALUE=DATE:20240919
DTSTAMP:20260420T111044
CREATED:20240830T211827Z
LAST-MODIFIED:20240830T211827Z
UID:1049-1726617600-1726703999@afcatlanta.org
SUMMARY:Fasting & Prayer
DESCRIPTION:
URL:https://afcatlanta.org/event/fasting-prayer/
END:VEVENT
BEGIN:VEVENT
DTSTART;TZID=UTC:20240921T103000
DTEND;TZID=UTC:20240921T120000
DTSTAMP:20260420T111044
CREATED:20240830T215430Z
LAST-MODIFIED:20240830T215430Z
UID:1075-1726914600-1726920000@afcatlanta.org
SUMMARY:Prayer Breakfast
DESCRIPTION:
URL:https://afcatlanta.org/event/prayer-breakfast/
END:VEVENT
BEGIN:VEVENT
DTSTART;TZID=UTC:20240922T150000
DTEND;TZID=UTC:20240922T160000
DTSTAMP:20260420T111044
CREATED:20240830T215140Z
LAST-MODIFIED:20240830T215554Z
UID:1067-1727017200-1727020800@afcatlanta.org
SUMMARY:Round Table
DESCRIPTION:
URL:https://afcatlanta.org/event/round-table/
END:VEVENT
END:VCALENDAR